Workbook

Sheet Como usar
A1: Extrato 2026
A3: 1 jan a 25 set 2026. Todos os lançamentos estão na aba Lançamentos.
A4: Para nomear um valor, abra a aba Nomes e escreva na coluna amarela Seu nome.
A5: O mesmo nome vale para todos os movimentos daquele grupo. A aba Lançamentos mostra o nome ao lado de cada valor.
A6: Se um movimento precisar de um nome só dele, substitua a fórmula da coluna Seu nome nessa linha.
A7: No dashboard, use Trazer nomes do Excel e escolha este arquivo. O nome passa a aparecer nas barras.
A8: Não apague a coluna Id. Ela liga o movimento ao extrato.
A9: Entrou R$ 439,794.35, já com R$ 88,720.00 de transferências para cofrinhos. Saiu R$ 384,738.21.
A10: Saldo em 2025-12-31: R$ 5,021.19. Saldo em 2026-09-25: R$ 592.57.

Sheet Nomes
A1: Nome no extrato | B1: Seu nome | C1: Lançamentos | D1: Entrou | E1: Saiu | F1: Entre contas | G1: Categoria
A2: Priscila · salário | C2: 11 | D2: 178441.34 | E2: 0 | F2: 0 | G2: Salário da Priscila
A3: Priscila | C3: 79 | D3: 152930.21 | E3: 400 | F3: 0 | G3: Transferência da Priscila
A4: Cofrinho | C4: 43 | D4: 88720 | E4: 0 | F4: 32781.45 | G4: Cofrinho
A5: Fatura Cartão Black | C5: 10 | D5: 0 | E5: 85234.8 | F5: 0 | G5: Cartão Black
A6: Ciranda | C6: 17 | D6: 0 | E6: 64773.76 | F6: 0 | G6: Educação
A7: Financiamento imobiliário | C7: 9 | D7: 0 | E7: 56850.12 | F7: 0 | G7: Moradia
A8: TED enviado | C8: 1 | D8: 0 | E8: 30000 | F8: 0 | G8: Outro banco
A9: Marcia | C9: 26 | D9: 0 | E9: 21778 | F9: 0 | G9: Pessoas
A10: Karine | C10: 3 | D10: 0 | E10: 13600 | F10: 0 | G10: Pessoas
A11: Condomínio Verana | C11: 5 | D11: 0 | E11: 12514.84 | F11: 0 | G11: Moradia
A12: Decolar | C12: 1 | D12: 0 | E12: 12464.88 | F12: 0 | G12: Viagem
A13: Boleto recorrente | C13: 4 | D13: 0 | E13: 10186.63 | F13: 0 | G13: Boletos
... A158: CDB | C158: 4 | D158: 0 | E158: 0 | F158: 41600.03 | G158: CDB

Sheet Lançamentos
A1: Data | B1: Descrição | C1: Valor | D1: Tipo | E1: Categoria | F1: Nome no extrato | G1: Seu nome | H1: Recorrência | I1: Origem | J1: Id
A2: 46024 | B2: DA ELETROPAULO 24247588 | C2: -327.82 | D2: Saída | E2: Moradia | F2: Energia elétrica | G2: =IFERROR(VLOOKUP(F2,Nomes!$A$2:$B$158,2,FALSE),"") | H2: Conta fixa | J2: 3797b4abe1d9
A3: 46024 | B3: REND PAGO APLIC AUT MAIS | C3: 0.04 | D3: Entrada | E3: Rendimento | F3: Rendimento da aplicação | G3: =IFERROR(VLOOKUP(F3,Nomes!$A$2:$B$158,2,FALSE),"") | J3: 50102deb620a
A4: 46024 | B4: CARTAO PERSONNALITE | C4: -61.7 | D4: Saída | E4: Cartão Black | F4: Tarifa Personnalité | G4: =IFERROR(VLOOKUP(F4,Nomes!$A$2:$B$158,2,FALSE),"") | I4: Tarifa do cartão | J4: 614444f4d24d
A5: 46024 | B5: TBI conta própria | C5: 15000 | D5: Entre contas | E5: Mesma conta | F5: Mesma conta | G5: =IFERROR(VLOOKUP(F5,Nomes!$A$2:$B$158,2,FALSE),"") | J5: f18cbd6ce4b9
A6: 46024 | B6: PERS BLACK 3608-7306 | C6: -16546.05 | D6: Saída | E6: Cartão Black | F6: Fatura Cartão Black | G6: =IFERROR(VLOOKUP(F6,Nomes!$A$2:$B$158,2,FALSE),"") | I6: Fatura do cartão | J6: 1e1cac7973c1
A7: 46024 | B7: PIX QRS CIRANDA BER01/01 | C7: -2499.88 | D7: Saída | E7: Educação | F7: Ciranda | G7: =IFERROR(VLOOKUP(F7,Nomes!$A$2:$B$158,2,FALSE),"") | H7: Conta fixa | J7: 8cba683bb570
A8: 46024 | B8: PIX TRANSF Ana Cam02/01 | C8: -248 | D8: Saída | E8: Pessoas | F8: Ana Cam | G8: =IFERROR(VLOOKUP(F8,Nomes!$A$2:$B$158,2,FALSE),"") | J8: 90bf7aef0e00
A9: 46027 | B9: DA CLARO BL/IT 07428957 | C9: -323.87 | D9: Saída | E9: Assinaturas | F9: Claro | G9: =IFERROR(VLOOKUP(F9,Nomes!$A$2:$B$158,2,FALSE),"") | H9: Assinatura | J9: 640c4f9aba68
A10: 46027 | B10: PAG TIT INT 237 | C10: -490.61 | D10: Saída | E10: Boletos | F10: Boleto 237 | G10: =IFERROR(VLOOKUP(F10,Nomes!$A$2:$B$158,2,FALSE),"") | J10: 9e48d29158c5
A11: 46027 | B11: TBI conta própria | C11: 5000 | D11: Entre contas | E11: Mesma conta | F11: Mesma conta | G11: =IFERROR(VLOOKUP(F11,Nomes!$A$2:$B$158,2,FALSE),"") | J11: 4588179fb4ec
A12: 46027 | B12: INT /VIVO-SP 0463679526 | C12: -42.14 | D12: Saída | E12: Assinaturas | F12: Vivo | G12: =IFERROR(VLOOKUP(F12,Nomes!$A$2:$B$158,2,FALSE),"") | H12: Assinatura | J12: 1e5d059b4264
A13: 46027 | B13: INT /VIVO-SP 0463679526 | C13: -39.99 | D13: Saída | E13: Assinaturas | F13: Vivo | G13: =IFERROR(VLOOKUP(F13,Nomes!$A$2:$B$158,2,FALSE),"") | H13: Assinatura | J13: bde2b7befc19
A14: 46027 | B14: PIX TRANSF PRISCIL05/01 | C14: 3790 | D14: Entrada | E14: Transferência da Priscila | F14: Priscila | G14: =IFERROR(VLOOKUP(F14,Nomes!$A$2:$B$158,2,FALSE),"") | J14: 0c203f18ca14
A15: 46027 | B15: PIX QRS AMAZON.COM.05/01 | C15: -81.07 | D15: Saída | E15: Compras | F15: Amazon | G15: =IFERROR(VLOOKUP(F15,Nomes!$A$2:$B$158,2,FALSE),"") | J15: b61967966b3f
A16: 46027 | B16: PIX TRANSF MARCIA 05/01 | C16: -1540 | D16: Saída | E16: Pessoas | F16: Marcia | G16: =IFERROR(VLOOKUP(F16,Nomes!$A$2:$B$158,2,FALSE),"") | J16: 04723dfed1d8
A17: 46028 | B17: REND PAGO APLIC AUT MAIS | C17: 0.01 | D17: Entrada | E17: Rendimento | F17: Rendimento da aplicação | G17: =IFERROR(VLOOKUP(F17,Nomes!$A$2:$B$158,2,FALSE),"") | J17: b94e51a7b2b3
A18: 46028 | B18: PIX TRANSF BABY VI06/01 | C18: -800 | D18: Saída | E18: Pessoas | F18: Baby Vi | G18: =IFERROR(VLOOKUP(F18,Nomes!$A$2:$B$158,2,FALSE),"") | J18: a1193796ba2c
A19: 46028 | B19: TED 745.0001.MCKINSEY C | C19: 151.27 | D19: Entrada | E19: Salário da Luísa (McKinsey) | F19: Luísa · McKinsey | G19: =IFERROR(VLOOKUP(F19,Nomes!$A$2:$B$158,2,FALSE),"") | J19: 2875e6b5128a
A20: 46029 | B20: REND PAGO APLIC AUT MAIS | C20: 0.01 | D20: Entrada | E20: Rendimento | F20: Rendimento da aplicação | G20: =IFERROR(VLOOKUP(F20,Nomes!$A$2:$B$158,2,FALSE),"") | J20: e85c503f2a8d
A21: 46029 | B21: PIX QRS RAIA DROGAS07/01 | C21: -303.84 | D21: Saída | E21: Saúde | F21: Raia | G21: =IFERROR(VLOOKUP(F21,Nomes!$A$2:$B$158,2,FALSE),"") | J21: 06e6900bc3ad
A22: 46029 | B22: PIX TRANSF SABRINA07/01 | C22: -51 | D22: Saída | E22: Pessoas | F22: Sabrina | G22: =IFERROR(VLOOKUP(F22,Nomes!$A$2:$B$158,2,FALSE),"") | J22: 08238fc4f95b
A23: 46029 | B23: PIX TRANSF MARCIA 07/01 | C23: -440 | D23: Saída | E23: Pessoas | F23: Marcia | G23: =IFERROR(VLOOKUP(F23,Nomes!$A$2:$B$158,2,FALSE),"") | J23: 340647bd8f50
A24: 46030 | B24: PAY JoaoC 08/01 | C24: -16 | D24: Saída | E24: Compras | F24: Joaoc | G24: =IFERROR(VLOOKUP(F24,Nomes!$A$2:$B$158,2,FALSE),"") | J24: d9548c49d69d
A25: 46030 | B25: PAY ABRAA 08/01 | C25: -5 | D25: Saída | E25: Compras | F25: Abraa | G25: =IFERROR(VLOOKUP(F25,Nomes!$A$2:$B$158,2,FALSE),"") | J25: 7517678fdef4
... A33: 46034 | B33: REND PAGO APLIC AUT MAIS | C33: 0.01 | D33: Entrada | E33: Rendimento | F33: Rendimento da aplicação | G33: =IFERROR(VLOOKUP(F33,Nomes!$A$2:$B$158,2,FALSE),"") | J33: cee9a4fe0c63
A34: 46034 | B34: PAG TIT INT 444986947000 | C34: -2757.01 | D34: Saída | E34: Boletos | F34: Boleto recorrente | G34: =IFERROR(VLOOKUP(F34,Nomes!$A$2:$B$158,2,FALSE),"") | H34: Conta fixa | J34: 41401d5aa59a
A35: 46034 | B35: PAY ZIG F 10/01 | C35: -428.41 | D35: Saída | E35: Lazer | F35: Zig | G35: =IFERROR(VLOOKUP(F35,Nomes!$A$2:$B$158,2,FALSE),"") | J35: 545964537827
A36: 46034 | B36: PAY PINUS 10/01 | C36: -35 | D36: Saída | E36: Compras | F36: Pinus | G36: =IFERROR(VLOOKUP(F36,Nomes!$A$2:$B$158,2,FALSE),"") | J36: 9d2dfba5fa46
A37: 46034 | B37: PIX TRANSF MARIANA12/01 | C37: 35 | D37: Entrada | E37: Outras entradas | F37: Mariana | G37: =IFERROR(VLOOKUP(F37,Nomes!$A$2:$B$158,2,FALSE),"") | J37: 3b2026d9a8a5
A38: 46034 | B38: PIX TRANSF PRISCIL12/01 | C38: 3000 | D38: Entrada | E38: Transferência da Priscila | F38: Priscila | G38: =IFERROR(VLOOKUP(F38,Nomes!$A$2:$B$158,2,FALSE),"") | J38: ce2090c0d4f5
A39: 46034 | B39: PIX QRS Pagar Me Pa12/01 | C39: -61.39 | D39: Saída | E39: Compras | F39: Pagar.me | G39: =IFERROR(VLOOKUP(F39,Nomes!$A$2:$B$158,2,FALSE),"") | J39: 92f217e80f81
A40: 46035 | B40: REND PAGO APLIC AUT MAIS | C40: 0.01 | D40: Entrada | E40: Rendimento | F40: Rendimento da aplicação | G40: =IFERROR(VLOOKUP(F40,Nomes!$A$2:$B$158,2,FALSE),"") | J40: 8c4a91037e0c
A41: 46035 | B41: PIX QRS Pavei13/01 | C41: -135.18 | D41: Saída | E41: Pessoas | F41: Pavei | G41: =IFERROR(VLOOKUP(F41,Nomes!$A$2:$B$158,2,FALSE),"") | J41: ad35e3365f4b
A42: 46035 | B42: PIX QRS PIX Marketp13/01 | C42: -93.82 | D42: Saída | E42: Compras | F42: Mercado Pago | G42: =IFERROR(VLOOKUP(F42,Nomes!$A$2:$B$158,2,FALSE),"") | J42: a80c1e1a0cec
A43: 46037 | B43: REND PAGO APLIC AUT MAIS | C43: 0.08 | D43: Entrada | E43: Rendimento | F43: Rendimento da aplicação | G43: =IFERROR(VLOOKUP(F43,Nomes!$A$2:$B$158,2,FALSE),"") | J43: 54801f966cdb
A44: 46037 | B44: FINANC IMOBILIARIO 000034 | C44: -6404.66 | D44: Saída | E44: Moradia | F44: Financiamento imobiliário | G44: =IFERROR(VLOOKUP(F44,Nomes!$A$2:$B$158,2,FALSE),"") | H44: Conta fixa | J44: 89a32031e7dc
A45: 46037 | B45: TBI conta própria | C45: 3000 | D45: Entre contas | E45: Mesma conta | F45: Mesma conta | G45: =IFERROR(VLOOKUP(F45,Nomes!$A$2:$B$158,2,FALSE),"") | J45: 9b381f25b432
A46: 46037 | B46: PAY MAMBO 15/01 | C46: -66.9 | D46: Saída | E46: Alimentação | F46: Mambo | G46: =IFERROR(VLOOKUP(F46,Nomes!$A$2:$B$158,2,FALSE),"") | J46: 2bafbea73dd9
A47: 46037 | B47: DEV PIX PIX Marketp15/01 | C47: 93.82 | D47: Entrada | E47: Estorno | F47: Pix Marketp | G47: =IFERROR(VLOOKUP(F47,Nomes!$A$2:$B$158,2,FALSE),"") | J47: 4e139ead0e83
...

Sheet Meses
A1: Mês | B1: Entradas | C1: Das quais cofrinho | D1: Saídas | E1: Resultado
A2: janeiro | B2: 71753.05 | C2: 0 | D2: 42432.96 | E2: 29320.09
A3: fevereiro | B3: 13735.36 | C3: 0 | D3: 29724.76 | E3: -15989.4
A4: março | B4: 85225.91 | C4: 42620 | D4: 41255.34 | E4: 43970.57
A5: abril | B5: 38962.87 | C5: 1000 | D5: 31607.71 | E5: 7355.16
A6: maio | B6: 63300.76 | C6: 17000 | D6: 33830.84 | E6: 29469.92
A7: junho | B7: 52986.79 | C7: 12450 | D7: 73460.32 | E7: -20473.53
A8: julho | B8: 48414.45 | C8: 5950 | D8: 26994.63 | E8: 21419.82
A9: agosto | B9: 41749.51 | C9: 4350 | D9: 69330.32 | E9: -27580.81
A10: setembro (até o dia 25) | B10: 23665.65 | C10: 5350 | D10: 36101.33 | E10: -12435.68
A11: Ano | B11: 439794.35 | C11: 88720 | D11: 384738.21 | E11: 55056.14

Sheet Saldos
A1: Data | B1: Saldo
A2: 46022 | B2: 5021.19
A3: 46023 | B3: 5021.19
A4: 46024 | B4: 337.78
A5: 46025 | B5: 337.78
A6: 46026 | B6: 337.78
A7: 46027 | B7: 6610.1
A8: 46028 | B8: 5961.38
A9: 46029 | B9: 5166.55
A10: 46030 | B10: 5107.55
A11: 46031 | B11: 4254.51
A12: 46032 | B12: 4254.51
A13: 46033 | B13: 4254.51
... A270: 46290 | B270: 592.57
